BEGIN:VCALENDAR
VERSION:2.0
PRODID:-//Kasseler Markthalle //NONSGML Events //EN
CALSCALE:GREGORIAN
X-WR-CALNAME:Kasseler Markthalle
BEGIN:VEVENT
CREATED:20260423T125607Z
UID:2475
DTEND;VALUE=DATE:20260509
DTSTART;VALUE=DATE:20260509
DTSTAMP:20260424T162746Z
LOCATION:
DESCRIPTION:<p>Kinder basteln in der Markthalle Geschenke für den Muttertag.</p>
<p>Aktionsfläche im Obergeschoss.</p>
SUMMARY:Kinder basteln Geschenke
ORGANIZER:Kasseler Markthalle
URL;VALUE=URI:https://kasseler-markthalle.de/kalender/kinder-basteln-geschenke/
TRANSP:OPAQUE
BEGIN:VALARM
ACTION:DISPLAY
TRIGGER;VALUE=DATE-TIME:20260509
DESCRIPTION:Reminder for Kinder basteln Geschenke
END:VALARM
END:VEVENT
END:VCALENDAR
