BEGIN:VCALENDAR
VERSION:2.0
PRODID:-//Kasseler Markthalle //NONSGML Events //EN
CALSCALE:GREGORIAN
X-WR-CALNAME:Kasseler Markthalle
BEGIN:VEVENT
CREATED:20260423T124646Z
UID:2473
DTEND;VALUE=DATE:20260429
DTSTART;VALUE=DATE:20260429
DTSTAMP:20260424T145310Z
LOCATION:
DESCRIPTION:<p>Wegen des Feiertags am Freitag, 1. Mai, öffnet die Kasseler Markthalle ausnahmsweise auch am Mittwoch, 29.04.2026.</p>
SUMMARY:Sonderöffnung
ORGANIZER:Kasseler Markthalle
URL;VALUE=URI:https://kasseler-markthalle.de/kalender/sonderoeffnung/
TRANSP:OPAQUE
BEGIN:VALARM
ACTION:DISPLAY
TRIGGER;VALUE=DATE-TIME:20260429
DESCRIPTION:Reminder for Sonderöffnung
END:VALARM
END:VEVENT
END:VCALENDAR
