BEGIN:VCALENDAR
VERSION:2.0
PRODID:-//Kasseler Markthalle //NONSGML Events //EN
CALSCALE:GREGORIAN
X-WR-CALNAME:Kasseler Markthalle
BEGIN:VEVENT
CREATED:20260423T124054Z
UID:2470
DTEND;VALUE=DATE:20260509
DTSTART;VALUE=DATE:20260509
DTSTAMP:20260424T145234Z
LOCATION:
DESCRIPTION:<p>Wie in jedem Jahr zur Spargelzeit, kommt auch dieses Jahr der Kochclub Kassel e. V. an den Mai-Samstagen in die Kasseler Markthalle.</p>
<p>Neben hausgemachter Spargelsuppe kann der in der Markthalle frisch gekaufte Spargel, hier fachgerecht geschält werden. Und alles gegen Abgabe einer freiwilligen Spende, die für einen guten Zweck weitergegeben wird.</p>
<p>Seien Sie dabei – frischer & geschälter Spargel zum Kochen daheim und alles für einen guten Zweck!</p>
<p>Wir freuen uns auf Sie!</p>
SUMMARY:Kasseler Kochclub „Spargelschälen“
ORGANIZER:Kasseler Markthalle
URL;VALUE=URI:https://kasseler-markthalle.de/kalender/kasseler-kochclub-spargelschaelen-3/
TRANSP:OPAQUE
BEGIN:VALARM
ACTION:DISPLAY
TRIGGER;VALUE=DATE-TIME:20260509
DESCRIPTION:Reminder for Kasseler Kochclub &#8222\;Spargelschälen&#8220\;
END:VALARM
END:VEVENT
END:VCALENDAR
