BEGIN:VCALENDAR
VERSION:2.0
PRODID:-//Kasseler Markthalle //NONSGML Events //EN
CALSCALE:GREGORIAN
X-WR-CALNAME:Kasseler Markthalle
BEGIN:VEVENT
CREATED:20260423T123113Z
UID:2466
DTEND;VALUE=DATE:20260530
DTSTART;VALUE=DATE:20260530
DTSTAMP:20260424T144202Z
LOCATION:
DESCRIPTION:<p>Gemeinsam mit dem ADFC und dem Projekt „Cycassel“ der UNI Kassel sowie namhaften Fahrradhändlern aus Kassel findet in der Zeit ab 10.30 Uhr der Fahrradtag 2026 statt. Angeboten werden eine Sternfahrt aus verschiedenen Stadtteilen Kassels, Stände von Fahrradhändlern und ein “Markt der Möglichkeiten“. Für musikalische Unterhaltung und das leibliche Wohl sorgen die Beschickerinnen und Beschicker der Kasseler Markthalle.</p>
<p>Treffpunkt ist die Parkfläche Tränkepforte</p>
SUMMARY:Fahrradtag 2026
ORGANIZER:Kasseler Markthalle
URL;VALUE=URI:https://kasseler-markthalle.de/kalender/fahrradtag-2026/
TRANSP:OPAQUE
BEGIN:VALARM
ACTION:DISPLAY
TRIGGER;VALUE=DATE-TIME:20260530
DESCRIPTION:Reminder for Fahrradtag 2026
END:VALARM
END:VEVENT
END:VCALENDAR
