BEGIN:VCALENDAR
VERSION:2.0
PRODID:-//Kasseler Markthalle //NONSGML Events //EN
CALSCALE:GREGORIAN
X-WR-CALNAME:Kasseler Markthalle
BEGIN:VEVENT
CREATED:20260423T122328Z
UID:2424
DTEND;VALUE=DATE:20260501
DTSTART;VALUE=DATE:20260430
DTSTAMP:20260424T144342Z
LOCATION:
DESCRIPTION:<p><strong>Maiparty im Obergeschoss und auf der Freifläche</strong></p>
<p>Tanzt in der Markthalle in den Mai: Livemusik aus jeder Zeit mit Madroom und DJ.</p>
<p>Für passende Speisen und Getränke sorgen an diesem Abend die Beschickerinnen und Beschicker der Kasseler Markthalle!</p>
SUMMARY:Tanz in den Mai
ORGANIZER:Kasseler Markthalle
URL;VALUE=URI:https://kasseler-markthalle.de/kalender/tanz-in-den-mai/
TRANSP:OPAQUE
BEGIN:VALARM
ACTION:DISPLAY
TRIGGER;VALUE=DATE-TIME:20260430
DESCRIPTION:Reminder for Tanz in den Mai
END:VALARM
END:VEVENT
END:VCALENDAR
